BEGIN:VCALENDAR
VERSION:2.0
PRODID:-//Traumainstitut Salzburg - ECPv6.15.20//NONSGML v1.0//EN
CALSCALE:GREGORIAN
METHOD:PUBLISH
X-ORIGINAL-URL:https://traumainstitut.eu
X-WR-CALDESC:Veranstaltungen für Traumainstitut Salzburg
REFRESH-INTERVAL;VALUE=DURATION:PT1H
X-Robots-Tag:noindex
X-PUBLISHED-TTL:PT1H
BEGIN:VTIMEZONE
TZID:Europe/Berlin
BEGIN:DAYLIGHT
TZOFFSETFROM:+0100
TZOFFSETTO:+0200
TZNAME:CEST
DTSTART:20250330T010000
END:DAYLIGHT
BEGIN:STANDARD
TZOFFSETFROM:+0200
TZOFFSETTO:+0100
TZNAME:CET
DTSTART:20251026T010000
END:STANDARD
BEGIN:DAYLIGHT
TZOFFSETFROM:+0100
TZOFFSETTO:+0200
TZNAME:CEST
DTSTART:20260329T010000
END:DAYLIGHT
BEGIN:STANDARD
TZOFFSETFROM:+0200
TZOFFSETTO:+0100
TZNAME:CET
DTSTART:20261025T010000
END:STANDARD
BEGIN:DAYLIGHT
TZOFFSETFROM:+0100
TZOFFSETTO:+0200
TZNAME:CEST
DTSTART:20270328T010000
END:DAYLIGHT
BEGIN:STANDARD
TZOFFSETFROM:+0200
TZOFFSETTO:+0100
TZNAME:CET
DTSTART:20271031T010000
END:STANDARD
END:VTIMEZONE
BEGIN:VEVENT
DTSTART;TZID=Europe/Berlin:20260618T100000
DTEND;TZID=Europe/Berlin:20260618T180000
DTSTAMP:20260421T022345
CREATED:20250521T065933Z
LAST-MODIFIED:20260410T105646Z
UID:10000120-1781776800-1781805600@traumainstitut.eu
SUMMARY:Lehrgang Traumapädagogik "reloaded" mit Wilma Weiss 2026
DESCRIPTION:Lehrgang Traumapädagogik  und Traumazentrierte Fachberatung\n\n\n\n\n\nMit Doppelabschluss: Traumapädagog*in  & Traumazentrierte(r)Fachberater*in\n\n\n\nFür mehr Sicherheit\, Wirksamkeit und Mitgefühl in der Arbeit mit belasteten und traumatisierten Menschen \n\n\n\nTraumapädagogik wird als Sammelbegriff für die pädagogischen Ansätze und Methoden bei der Arbeit mit Kindern und Jugendlichen\, aber auch mit Erwachsenen im betreuenden Alltag verstanden. \n\n\n\nTraumapädagogik bedeutet\, pädagogisches Handeln konsequent aus dem Verstehen traumatischer Prozesse heraus zu gestalten. Sie vereint neueste Erkenntnisse der Psychotraumatologie\, Bindungs- und Entwicklungspsychologie mit pädagogischem Wissen und orientiert sich am Prinzip einer sicheren\, stabilisierenden Beziehung. \n\n\n\nDie traumapädagogische Haltung stellt den Menschen mit seinen Schutzmechanismen\, Ressourcen und biografischen Hintergründen ins Zentrum – nicht seine Symptome oder sein Verhalten. Sie fragt: “Was ist dir passiert?” statt “Was stimmt nicht mit dir?” \n\n\n\nMit diesem Perspektivenwechsel schafft Traumapädagogik einen Raum\, in dem Vertrauen entstehen und Heilung beginnen kann. \n\n\n\n\n \n\n\n\nDas Bewusstsein für die tiefgreifenden Auswirkungen traumatischer Erfahrungen wächst – sowohl in der Psychotherapie als auch in der Pädagogik. Viele Kinder\, Jugendliche und Erwachsene sind von Traumata betroffen: Vernachlässigung\, Misshandlung\, Verluste\, Unfälle\, Gewalt oder Fluchterfahrungen. Diese Erlebnisse können tiefgreifende Auswirkungen auf die Entwicklung\, das Verhalten und die Beziehungen der Betroffenen haben. \n\n\n\nOft greifen herkömmliche pädagogische oder therapeutische Maßnahmen nicht oder wirken gar kontraproduktiv. Fachkräfte fühlen sich hilflos oder überfordert. Genau hier setzt die Weiterbildung an: Sie vermittelt Fachwissen\, eine professionelle Haltung und praxisorientierte Werkzeuge für einen sicheren und mitfühlenden Umgang mit traumatisierten Menschen. \n\n\n\n„Nur indem wir den Schlamm\, den Trauma erzeugt\, anschauen\, bearbeiten und versorgen kann daraus ein neuer wunderbarer Lotus erblühen“ (Wilma Weiss u. Sonja Schachtner 2022)   \n\n\n\nDies wird die letzte Ausbildung sein\, die Wilma Weiss in dieser Ausführlichkeit begleitet ! \n\n\n\n\n\n\n\n \n\n\n\nFORTBILDUNGSÜBERSICHT\n\n\n\n\n\n\n\nWannWas09.-11.April 2026Modul 1: Einführung in die Traumapädagogik und PsychotraumatologieInfos zur AusbildungKennenlernenGeschichte der TraumapädagogikPsychotraumatologieGrundlegende Haltungen der TraumapädagogikSelbstbemächtigung reloaded25.-27. Juni 2026Modul 2: Übertragungsphänomene in der traumasensiblen ArbeitAkuttraumatisierungÜbertragung und GegenübertragungAkuttraumatisierungStabilisierungstechniken24.-25. September 2026Modul 3: Bindung und EntwicklungstraumatisierungEntwicklungstraumatisierung in der frühen Kindheit und deren Auswirkungen Transgenerationale Weitergabe von Bindungsmustern und -störungenEmotional korrigierende BindungserfahrungenEigen- und CoregulationBindungseindeutige” InterventionenDie Bedeutung von “Kontakt” im Bindungsaufbau19.-20. November 2026Modul 4: Dissoziation als Kernaspekt traumapädagogischen VerstehensTheorie der partiellen und strukturellen DissoziationDie menschliche MultiziplitätTeilearbeit mit EgostatesStörungswertige Dissoziation im pädagogischen Alltag21.Nov.26Supervision14.- 16. Jänner 2027Modul 5: Trauma und Gewalterleben:Täter*innen-Opferdynamiken\, Familiendynamiken\, Täter*innen aus dem familiären und sozialen Umfeld\, kollektive Traumatisierungen\, Täter*innentypen\, Verleugnungsstrategien\, „GrauGestehen“Traumatisierung durch Flucht  und MigrationSequenzielle TraumatisierungKultursensible TraumaarbeitTraumaarbeit im Familienkontext12.-13. März 2027Modul 6: BiografiearbeitBiografiearbeit im Kontext systemischer Traumapädagogik und TraumafachberatungTrauma und Ressourcen in der FamilienbiografieTrauma und Ressourcen in der AutobiographieZielgruppen traumasensibler BiografiearbeitMethoden traumasensibler Biografiearbeit22 – 23. April 2027Modul 7: Traumapädagogische GruppenarbeitGeschichte der Gruppenarbeit\, Gruppenphasen\, – dynamikDynamik von Trauma und GruppeDas traumapädagogisch – therapeutische MilieuDie traumapädagogische Gruppe (“Startup” für Konzeptarbeit)Erlebnisorientierte Gruppenspiele Gruppenregeln und SelbstwirksamkeitTraumaworkshop / traumainformiertes Wissen in Gruppen17. – 18. Juni 2027Modul 8: Taumasensible GesprächsführungVerschiedene Zugänge und Methoden der GesprächsführungElterngespräche Reflektion der eigenen Kommunikationsstrategien und MusterGrundstrebungen nach Riemann/Thomann in der Begleitung nutzenUmgang mit Widerstand / Abwehr30.09.2027Supervisionstag1.-2. Oktober 2027Modul 9: SelbstsorgeVerschiedene Möglichkeiten Selbstsorge Achtsamkeitsbasierte ÜbungenAnerkennung des SchmerzesGrundzüge spiritueller Aspekte in der Traumaarbeit18.-19. NovemberModul 10: Abschluss\, Supervision der FalldarstellungenSupervision der Projektarbeiten\n\n\n\nSupervision im Ausmaß von 24 Stunden erfolgt an 2 Seminartagen und ist fortlaufender Bestandteil der Weiterbildung. \n\n\n\nEinzelsupervisionen können auf Wunsch gebucht werden. Diese sind in der Lehrgangspauschale nicht enthalten. \n\n\n\nREFERENTINNEN\n\n\n\n\n\n\n\n\nWilma Weiss \n\n\n\nLehrgangsleitung \n\n\n\n\nDiplompädagogin im Unruhestand\n\n\n\nGründerin des Fachverbandes Traumapädagogik\n\n\n\nMitglied im Expert*innenrat des Fachverbandes Traumapädagogik\n\n\n\nReferentin für das Antonia-Werr-Zentrum und wundeRkinder Graz\n\n\n\nFachbuchautorin\n\n\n\nWilma Weiß (wilmaweiss.de)\n\n\n\n\n\n\n\n\n\n\nSonja Schachtner\n\n\n\nLehrgangsleitung \n\n\n\n\nSystemische Psychotherapeutin\, Dipl. Sozialarbeiterin\n\n\n\nPsychotherapeutin in Kinder-und Jugendpsychotherapie\n\n\n\nTraumapädagogin (DeGPT)\n\n\n\nNarm Practitioner\n\n\n\nAchtsamkeitstrainerin\n\n\n\nlangjährige Arbeit in Bereichen der Kinder- und Jugendhilfe\n\n\n\nLeitung des Traumainstituts Salzburg\n\n\n\n\n\n\n\n\n\n\n Anja Sauerer\n\n\n\n\nGeschäftsführerin und Gesamtleiterin der Antonia-Werr-Zentrum GmbH\,\n\n\n\nInstitutsleiterin des AWZ-Institutes für Traumapädagogik und Traumafachberatung\n\n\n\nErzieherin\, Sozialpädagogin\, systemische Beraterin\,\n\n\n\nTraumapädagogin und Traumafachberaterin DegPT\n\n\n\nVorstandsmitglied im Fachverband Traumapädagogik e.V.\n\n\n\nFachbuchautorin\n\n\n\nwww.antonia-werr-zentrum.de\n\n\n\n\n\n\n\n\n\n\nMag.phil. Christine Gruber\n\n\n\n\nKlinische- und Gesundheitspsychologin\, \n\n\n\nTraumabehandlerin\, \n\n\n\nEMDR\, Systemische Strukturaufstellungen\,\n\n\n\n Wissenschaftlerin (ehemals Ludwig Boltzmann Institut für Suchtforschung)\,  \n\n\n\nInitiatorin des UNUM Institutes https://unum.institute/\, \n\n\n\nProjektentwicklung und -leitung TrauMaTRIX und PVTI\n\n\n\n https://christinegruber.at/\n\n\n\n\n\n\n\n\n\n\nDr. Renate Jegodtka\n\n\n\n\n Systemische Supervisorin und Lehrtherapeutin (SG)\, Traumatherapie (PITT);\n\n\n\nGründung und Leitung „Zentrum für Systemische Beratung und Therapie“ in Weyhe (bei Bremen)\,\n\n\n\nEntwicklung und Durchführung der Weiterbildung »Systemische Traumapädagogik und Traumafachberatung« (DeGPT/FV-TP) in Weyhe\, Kassel\, Salzburg;\n\n\n\nAutorin von Fach- und Kinderbüchern\n\n\n\n\n\n\n\n\n\n\n Karin Malaizier\n\n\n\n\nErzieherin\n\n\n\nSeminartätigkeit und Ausbildnerin mit den Schwerpunkten Kommunikation\, Deeskalation\, Bindung\, Berührung und Trauma\n\n\n\nAusbildnerin in personenzentrierter und systemischer Gesprächsführung\n\n\n\nFamilien- und Organisationsaufstellerin  \n\n\n\nNeuroDeeskalation® Trainerin und Ausbildnerin\n\n\n\nNarm Practitioner – Entwicklungstrauma heilen \n\n\n\nNarm Touch \n\n\n\nHavening Practitioner i.A.\n\n\n\nNSTI Neurosomatische Trauma Integration i.A.\n\n\n\nArbeit am Tonfeld® in eigener Praxis\n\n\n\n\n\n\n\n\n\n\nRose-Marie Wellek-Mestian\, BA MSc\n\n\n\n\n Psychotherapeutin\, Pädagogin\, Elementarpädagogin\n\n\n\nSystemische Psychotherapeutin\, spezielle Traumatherapie (DeGPT)\,\n\n\n\nSpezielle Psychotraumatherapie mit Kindern und Jugendlichen (DeGPT)\n\n\n\nTherapeutin in Säuglings-\, Kinder- und Jugendlichenpsychotherapie\,\n\n\n\nEMDR Europe Accredited C&A Trainer\n\n\n\nEMDR Europa Accredited Adult Trainer\n\n\n\nEMDR Supervisorin\n\n\n\nHome | Traumaarbeit (wellek.at)\n\n\n\n\n\n\nMag. Dr. Sabine Riesenhuber \n\n\n\n\nErziehungs- und Bildungswissenschaftlerin (Sozialpädagogik)\, \n\n\n\nMal- und Gestaltungstherapeutin\, \n\n\n\nLebens- und Sozialberaterin\, \n\n\n\nSystemisch-kunsttherapeutische Supervisorin; \n\n\n\nTraumapädagogin und Traumafachberaterin DegPT\n\n\n\nBerufserfahrung in unterschiedlichen psychosozialen Kontexten und Einrichtungen der Jugendhilfe\n\n\n\nErwachsenenbildung im Aus- und Weiterbildungssektor \n\n\n\nhttps://www.praxis-riesenhuber.at/\n\n\n\n\n\n\n\n\n\nZielgruppe\n\n\n\nAngesprochen sind Angehörige psychosozialer\, medizinischer und pädagogischer Berufe:z.B. MitarbeiterInnen in Einrichtungen der Jugendhilfe\, in Beratungsstellen\, ErzieherInnen\, KollegInnen aus Bereichen der Krankenpflege\, ÄrztInnen\, ErgotherapeutInnen\, LehrerInnen\, SozialarbeiterInnen\, PsychologInnen\,   \n\n\n\nDie Zusammensetzung der Weiterbildungsgruppe mit TeilnehmerInnen aus unterschiedlichen Praxisfeldern ist konzeptionell erwünscht. \n\n\n\n \n\n\n\nZertifizierung: \n\n\n\nUm eine Zertifizierung des Lehrgangs durch den DeGPT ist angesucht! –  \n\n\n\nBitte beachten Sie die Berufsgruppen\, die für eine Zertifizierung durch den DeGPT zugelassen sind. Diese und andere Informationen finden Sie im Curriculum: \n\n\n\n\n“FVTP DeGPT Curriculum Traumapaedagogik_Traumazentrierte Fachberatung” herunterladen\n\n\n\n\nNach Abschluss aller 9 Module und der Abschlussarbeit\, die sich aus einer ausführlichen Falldokumentation und einer Projektarbeit zusammensetzt\, erhalten Sie in jedem Fall ein Abschlusszertifikat des Traumainstituts Salzburgs\, als Öcert-zertifizierte Erwachsenenbildungseinrichtung.  \n\n\n\nWenn ihre persönlichen Zugangsvorraussetzungen  den Kriterien des DeGPT ( siehe Curriculum) entsprechen\, können sie zum Zertifikat des Traumainstituts Salzburg\, ein weiteres Zertifikat der DeGPT erhalten. Hierfür wird eine einmalig Zertifizierungs- und Barbeitungsgebühr von € 50\,- erhoben. \n\n\n\nDauer\n\n\n\n24 Tage / 200 UE (inkl. 24 UE Supervision) \n\n\n\nZeiten: \n\n\n\nModul 1\, 2\, 4\, 5\, 6 und 9:1. Tag : 10:00 – 18:002. Tag:    9:00 – 17:003. Tag:    9:00 – 16:00 \n\n\n\nModul 3\, 7\, und 8:1. Tag : 10:00 – 18:002. Tag:    9:00 – 16:00 \n\n\n\nModul 10:1.Tag:  9.00 – 18.002.Tag:  9.00 – 17.00 \n\n\n\n \n\n\n\n \n\n\n\n\n\n\n\nDER LEHRGANG IST AUSGEBUCHT!  ANMELDUNGEN FÜR WARTELISTE MÖGLICH! \n\n\n\nAnmeldeschluss: 01.03.2026 \n\n\n\nACHTUNG: Modul 2 vom 25.06.- 27.06.2026 findet im Cohaus Kloster Schlehdorf statt. https://cohaus-schlehdorf.de/startseite. Das Kloster Schlehdorf ist ein ehemaliges Kloster der Missions-Dominikanerinnen von Qonce (ehemals King William’s Town) in Südafrika. \n\n\n\nEs liegt am Ostrand von Schlehdorf am nördlichen Rand der Bayerischen Alpen und in unmittelbarer Nähe des Kochelsees.   \n\n\n\nAlle weiteren Module finden statt im: Seminarzentrum \, Bio Art Campus\, Seeham \n\n\n\n\n\n\n\n\n\n\nKosten:\n\n\n\nFrühbucher bis 11.1.2026: 3960 Euro zahlbar in 3 Raten zu je  1320 euro \n\n\n\n4275 Euro zahlbar in 3 Raten zu je 1425 Euro \n\n\n\nÜbernachtung und Verpflegung sind im Preis nicht inbegriffen. Die Buchung für Übernachtungen ist selbstständig durchzuführen. \n\n\n\n\nBerechtigung:\n\n\n\nEin positiver Abschluss berechtigt zur Anwendung der erlernten Inhalte und Methoden im Rahmen der erfolgreich abgeschlossenen Berufsausbildung sowie der damit verbundenen Berufsberechtigung. Bitte beachten Sie den Diagnose- und Behandlungsvorbehalt der gesetzlich geregelten Gesundheitsberufe\, der festlegt\, wer befugt ist\, Krankheiten oder krankheitswertige Störungen zu untersuchen\, festzustellen und zu behandeln. \n\n\n\n\n\n\n\n\n\n\n\nAnmeldung\n\n\n\n                    2026 Lehrgang TraumapädagogikTitelAnredeVornameNachnameBeruf Berater*innen  Gesundheitsberufe KJH Fachkräfte Lebens- und Sozialberater*innen Pädagog*innen Pflege- und Adoptiveltern Psycholog*innen Psychotherapeut*innen Sozialarbeiter*innen Sozialpädagog*innen Heilpraktiker für Psychotherapie  SonstigeStraße / NummerPostleitzahlStadt / OrtLandLand auswählenAfghanistanAlbanienAlgerienAmerikanisch-SamoaAmerikanische JungferninselnAndorraAngolaAnguillaAntarktikaAntigua und BarbudaArgentinienArmenienArubaAserbaidschanAustralienBahamasBahrainBangladeschBarbadosBelarusBelgienBelizeBeninBermudaBhutanBolivienBonaire\, Sint Eustatius und SabaBosnien und HerzegowinaBotswanaBouvetinselBrasilienBritische JungferninselnBritisches Territorium im Indischen OzeanBruneiBulgarienBurkina FasoBurundiCabo VerdeChileChinaCookinselnCosta RicaCuraçaoDemocratic Republic of the Congo (Kinshasa)DeutschlandDominicaDominikanische RepublikDschibutiDänemarkEcuadorEl SalvadorElfenbeinküsteEritreaEstlandEswatiniFalklandinselnFidschiFinnlandFrankreichFranzösisch-GuayanaFranzösisch-PolynesienFranzösische Süd- und AntarktisgebieteFäröerGabunGambiaGeorgienGhanaGibraltarGrenadaGriechenlandGrönlandGuadeloupeGuamGuatemalaGuernseyGuineaGuinea-BissauGuyanaHaitiHeard und McDonaldinselnHondurasHongkongIndienIndonesienIrakIranIrlandIslandIsle of ManIsraelItalienJamaikaJapanJemenJerseyJordanienKaimaninselnKambodschaKamerunKanadaKasachstanKatarKeniaKirgisistanKiribatiKokosinseln (Keelinginseln)KolumbienKomorenKosovoKroatienKubaKuwaitLaosLesothoLettlandLibanonLiberiaLibyenLiechtensteinLitauenLuxemburgMacao\, ChinaMadagaskarMalawiMalaysiaMaledivenMaliMaltaMarokkoMarshallinselnMartiniqueMauretanienMauritiusMayotteMexikoMikronesienMoldauMonacoMongoleiMontenegroMontserratMosambikMyanmarNamibiaNauruNepalNeukaledonienNeuseelandNicaraguaNiederlandeNigerNigeriaNiueNordkoreaNorfolkinselNorth MacedoniaNorwegenNördliche MarianenOmanOsttimorPakistanPalauPalästinensische AutonomiegebietePanamaPapua-NeuguineaParaguayPeruPhilippinenPitcairninselnPolenPortugalPuerto RicoRepublic of the Congo (Brazzaville)RuandaRumänienRusslandRéunionSaint BarthélemySaint Martin (niederländischer Teil)Saint-Pierre und MiquelonSalomonenSambiaSamoaSan MarinoSao Tome and PrincipeSaudi-ArabienSchwedenSchweizSenegalSerbienSeychellenSierra LeoneSimbabweSingapurSlowakeiSlowenienSomaliaSpanienSpitzbergen und Jan MayenSri LankaSt. HelenaSt. Kitts und NevisSt. LuciaSt. Martin (Frankreich)St. Vincent und die GrenadinenSudanSurinamSyrienSüdafrikaSüdgeorgien/SandwichinselnSüdkoreaSüdsudanTadschikistanTaiwanTansaniaThailandTogoTokelauTongaTrinidad und TobagoTschadTschechienTunesienTurkmenistanTurks- und CaicosinselnTuvaluTürkiyeUgandaUkraineUngarnUnited States (US) Minor Outlying IslandsUruguayUsbekistanVanuatuVatikanstadtVenezuelaVereinigte Arabische EmirateVereinigte Staaten von Amerika (USA)Vereinigtes KönigreichVietnamWallis und FutunaWeihnachtsinselWestsaharaZentralafrikanische RepublikZypernÄgyptenÄquatorialguineaÄthiopienÅlandinselnÖsterreichE-MailTelefon/MobileLebenslaufDatei auswählen MotivationsschreibenDatei auswählen Rechnungsadresse Abweichende Rechnungsadresse (nur auszufüllen\, wenn die Rechnungsadresse von der Lieferadresse abweicht)Institution/ NameStraßePLZOrtLand– Select –ÖsterreichDeutschlandSchweizItalienSonstigeIch bin mit der Weitergabe meiner Adresse an die Lehrgangsteilnehmer*Innen zur Bildung von Fahrgemeinschaften einverstanden. Ja NeinIch habe bereits eine Veranstaltung des Traumainstituts Salzburg besucht Ja NeinAnmerkungen Ich stimme den Teilnahmebedingungen und Stornobedingungen zu  Ich bin damit einverstanden\, dass diese Website meine eingereichten Informationen speichert\, damit sie auf meine Anfrage antworten könnenNewsletter Ich möchte weitere Informationen über Veranstaltungen erhalten Jetzt anmelden
URL:https://traumainstitut.eu/veranstaltung/lehrgang-traumapaedagogik-2026-2/
LOCATION:Seminarzentrum BioArt Campus Seeham \, Biodorf- Weg 4\, Seeham\, Austria\, 5164
CATEGORIES:WARTELISTE
ATTACH;FMTTYPE=image/jpeg:https://traumainstitut.eu/wp-content/uploads/20220327_135507-scaled-1.jpg
END:VEVENT
END:VCALENDAR