BEGIN:VCALENDAR
VERSION:2.0
PRODID:-//Traumainstitut Salzburg - ECPv6.15.20//NONSGML v1.0//EN
CALSCALE:GREGORIAN
METHOD:PUBLISH
X-WR-CALNAME:Traumainstitut Salzburg
X-ORIGINAL-URL:https://traumainstitut.eu
X-WR-CALDESC:Veranstaltungen für Traumainstitut Salzburg
REFRESH-INTERVAL;VALUE=DURATION:PT1H
X-Robots-Tag:noindex
X-PUBLISHED-TTL:PT1H
BEGIN:VTIMEZONE
TZID:Europe/Berlin
BEGIN:DAYLIGHT
TZOFFSETFROM:+0100
TZOFFSETTO:+0200
TZNAME:CEST
DTSTART:20220327T010000
END:DAYLIGHT
BEGIN:STANDARD
TZOFFSETFROM:+0200
TZOFFSETTO:+0100
TZNAME:CET
DTSTART:20221030T010000
END:STANDARD
BEGIN:DAYLIGHT
TZOFFSETFROM:+0100
TZOFFSETTO:+0200
TZNAME:CEST
DTSTART:20230326T010000
END:DAYLIGHT
BEGIN:STANDARD
TZOFFSETFROM:+0200
TZOFFSETTO:+0100
TZNAME:CET
DTSTART:20231029T010000
END:STANDARD
BEGIN:DAYLIGHT
TZOFFSETFROM:+0100
TZOFFSETTO:+0200
TZNAME:CEST
DTSTART:20240331T010000
END:DAYLIGHT
BEGIN:STANDARD
TZOFFSETFROM:+0200
TZOFFSETTO:+0100
TZNAME:CET
DTSTART:20241027T010000
END:STANDARD
END:VTIMEZONE
BEGIN:VEVENT
DTSTART;TZID=Europe/Berlin:20230731T100000
DTEND;TZID=Europe/Berlin:20230801T180000
DTSTAMP:20260425T155538
CREATED:20230127T074846Z
LAST-MODIFIED:20230724T152957Z
UID:10000019-1690797600-1690912800@traumainstitut.eu
SUMMARY:Awakening Joy – Achtsamkeit
DESCRIPTION:Awakening Joy – Achtsamkeit\n\n\n\n\n\n\n\nMIT ACHTSAMKEIT DIE FREUDE IN UNS ERWECKEN!\n\n\n\n\n\nWahres Glück bedeutet nicht\, etwas zu erwerben\, sondern sich der natürlichen Freude und Lebendigkeit direkt in dir zu öffnen. \n\n\n\nHeute\, da wir mit Botschaften bombardiert werden\, die unsere Angst und Traurigkeit über die Welt verstärken\, ist es mehr denn je wichtig\, die Bedeutung der Freude als einen zentralen Aspekt der Achtsamkeitspraxis zu verstehen. Wir müssen uns daran erinnern\, wie wir mit diesem Ort im Inneren verbunden bleiben können\, der das Leben lebenswert macht. Unsere eigene Kultivierung von Wohlbefinden und Freude kann unser Geschenk an eine unruhige Welt werden. \n\n\n\nDieser Workshop basiert auf James Baraz populärem 5-monatigem Awakening Joy Kurs\, den Tausende seit 2003 besucht haben. Sie lernen Grundprinzipien und andere unterstützende Praktiken\, um Ihre natürliche Fähigkeit zu Wohlbefinden und Glück auf einfache Weise zu entwickeln. \n\n\n\n\n\n\n\n\n\n\nTHEMENSCHWERPUNKTE \n\n\n\n\nDie Neigung des Geistes zu gesunden Zuständen durch Absicht\n\n\n\nWie Achtsamkeit negative und positive Geisteszustände schwächt und stärkt\n\n\n\nDankbarkeitspraktiken zur Vertiefung des Wohlbefindens\n\n\n\nUmgang mit Schwierigkeiten als Weg zum wahren Glück\n\n\n\nIntegritätspraktiken und Heilung der Vergangenheit\n\n\n\nLernen\, sich selbst zu lieben\n\n\n\nMitfühlendes Handeln und Veränderungen in der Welt bewirken\n\n\n\n\n\n\n METHODIK\n\n\n\n\nkurze Theorieinputs \n\n\n\nMeditationen\n\n\n\nÜbungen\n\n\n\nSelbstreflexion\n\n\n\ninteraktive Erfahrungsprozesse\n\n\n\n\n\n\n\n\n\n\n\nJames Baraz\n\n\n\n\nMitbegründer und Lehrer des Spirit Rock Meditation Center in Woodacre\, Kalifornien unterrichtet Meditation seit 1978\n\n\n\nleitet seit 2003 den beliebten Online-Kurs “Awakening Joy”\, an dem über 20.000 Menschen teilnehmen\n\n\n\nleitet Retreats\, Workshops und Kurse in den USA und international\n\n\n\nJames und seine Frau Jane initiierten Anfang der 90er Jahre das Familienprogramm von Spirit Rock\n\n\n\n1997 konzipierte er das Community Dharma Leader (CDL) Programm\n\n\n\nFreude erwecken (awakeningjoy.info)\n\n\n\n\n\n\nJane Baraz\n\n\n\n\n Gründungsmitglied des Spirit Rock Meditation Center \n\n\n\nMitbegründerin des Spirit Rock Family Program. \n\n\n\n MBSR-Lehrerin \n\n\n\nleitet weltweit Awakening Joy-Workshops.  \n\n\n\nunterrichtet Mindfulness-Based Stress Reduction an der UCSF (University of California San Francisco).  \n\n\n\nunterrichtet achtsames Selbstmitgefühl am Spirit Rock Meditation Center und am Women’s Cancer Resource Center unterrichtet. \n\n\n\nMentorin für das Mindfulness Meditation Teacher Certification Program mit Jack Kornfield und Tara Brach.\n\n\n\n\n\n\n\n\n\nDer Workshop findet in Englischer Sprache mit deutscher Übersetzung statt! \n\n\n\nZIELGRUPPE\n\n\n\nOffen \n\n\n\nDauer2 Tage \n\n\n\nTermine31.07. 2023\, 10:00 – 18:00 Uhr01.08. 2023\, 10:00 –18:00 Uhr \n\n\n\n\n\n\n\nOrt \n\n\n\n\n\nKosten€ 384\,- inkl. 20% Mwst (€ 320 + € 64) \n\n\n\nFür Unterkunft und Verpflegung ist selbst Sorge zu tragen.Eine sehr gute Suchplattform aus der Umgebung ist das : https://www.salzburger-seenland.at/info#/unterkuenfteNach fußläufiger Entfernung sortiert: \n\n\n\nEntenwirt Seeham \n\n\n\nHotel Landgasthof \n\n\n\nAicherbauer \n\n\n\nPension-Obertrum \n\n\n\nEinen guten Fahrplan für die Anreise per Bus finden Sie unter: https://fahrplan.salzburg-verkehr.at/ \n\n\n\n\n\n\n\nAnmeldung
URL:https://traumainstitut.eu/veranstaltung/awakening-joy-achtsamkeit/
LOCATION:INAMA – Institut\, Bio Art Campus\, Biodorfweg 4\, Seeham\, 5164\, Österreich
CATEGORIES:Präzenz-Workshop
ATTACH;FMTTYPE=image/jpeg:https://traumainstitut.eu/wp-content/uploads/20200410_181647-1-scaled-e1690212530166.jpg
END:VEVENT
BEGIN:VEVENT
DTSTART;TZID=Europe/Berlin:20230825T090000
DTEND;TZID=Europe/Berlin:20230825T170000
DTSTAMP:20260425T155538
CREATED:20230127T073657Z
LAST-MODIFIED:20230805T124832Z
UID:10000013-1692954000-1692982800@traumainstitut.eu
SUMMARY:Traumabezogene Spieltherapie ( TST)
DESCRIPTION:Traumabezogene Spieltherapie ( TST)\n\n\n\n\n\n\n\n\n\nDie  »Traumabezogenen Spieltherapie« ist eine psychotherapeutische Methode zur Behandlung komplexer Traumatisierungen bei Kindern. \n\n\n\nDie Methode wurde von Dorothea Weinberg entwickelt um mit  Trauma-Folgestörungen\, beispielsweise nach langzeitigen Misshandlungen\, emotionalen beziehungsweise sexuellen Missbrauchserfahrungen und Ähnlichem\, zu arbeiten \n\n\n\nDie »Traumabezogene Spieltherapie« kann als eine Weiterentwicklung der personzentrierten Spieltherapie (Rogers\, Axline u. a.) verstanden werden. \n\n\n\nIm Mittelpunkt steht die Person des Kindes\, das Spiel als seine Sprache\, die Person des Therapeuten\, die eine “heilsame” Beziehung anbietet in einem “sicheren” Raum zu einer festgelegten Zeit zur Verfügung stellt. \n\n\n\n  \n\n\n\n\n\n\n\n\n\n\nTHEMENSCHWERPUNKTE \n\n\n\n\ndie methodische Erarbeitung der traumabezogenen Spieltherapie/tSt. \n\n\n\nAufbau guter innerer Instanzen\, \n\n\n\ndie Bau-dir-Instruktion\, \n\n\n\nArbeit mit nicht endenden aggressiven Spielen\,\n\n\n\n Aufbau von Sicherheit im Therapiezimmer\, \n\n\n\ndie gezielte Arbeit mit Spaltungen\, \n\n\n\ndie Integration des Todesthemas. \n\n\n\n\n\n\n METHODIK\n\n\n\n\nTheorieinputs \n\n\n\nVideodemonstration\,\n\n\n\n Konzeptarbeit\n\n\n\n Workshops \n\n\n\n konkrete Demonstrationen von Therapeutenverhalten anhand der fishpool-Technik   \n\n\n\n\n\n\n\n  \n\n\n\nDipl.-Psych. Mag. theol. Dorothea Weinberg: \n\n\n\n\nDiplompsychologin\n\n\n\nKinder- und Jugendlichenpsychotherapeutin\n\n\n\nMagister der evangelischen Theologie\n\n\n\nAusbildungen in personzentrierter Psychotherapie für Kinder und\n\n\n\nErwachsene sowie Psychodrama für Kinder\n\n\n\nPP\, KJP\, Dozentin\, Supervisorin\n\n\n\nFachbuchautorin zum Thema Traumafolge- und Bindungsstörungen\n\n\n\n\n\n\n\n\n\nZIELGRUPPE\n\n\n\nPsychotherapeut*Innen\, Kinische u.-Gesundheitsthearpeut*Innen\, Ärzt*Innen \n\n\n\nZur Vorbereitung empfohlen: Dorothea Weinberg (2010)\, Psychotherapie mit komplex traumatisierten Kindern. Behandlung von Bindungs- und Gewalttraumata der frühen Kindheit. Klett-Cotta \n\n\n\nAnerkennung:\n\n\n\nDie Veranstaltung wird vom ÖBVP als Fortbildung für PsychotherapeutInnen gemäß der Fort- und Weiterbildungsrichtlinie für Psychotherapeutinnen und Psychotherapeuten des Bundesministeriums für Gesundheit (BMG) im Ausmaß von insgesamt sechzehn Arbeitseinheiten (16 AE) anerkannt wird. \n\n\n\nDie  Veranstaltung wird  durch den Berufsverband Österreichischer PsychologInnen I BÖP als Fort- und Weiterbildungsveranstaltung gemäß Psychologengesetz mit 16 EH anerkannt. \n\n\n\nDauer 2 Tage \n\n\n\nTermine \n\n\n\nFr.  25.08.2023\,  9.00 – 17.00 UhrSa. 26.08.2023\,  9:00 – 17:00 Uhr \n\n\n\n\n\n\n\n\n\n\n\nOrt  \n\n\n\n\n\nKosten 330 inkl. 20% Mwst \n\n\n\nAnerkennung:  Das Seminar wird vom ÖBVP als Fortbildung für PsychotherapeutInnen gemäß der Fort-und Weiterbildungsrichtlinie für PsychotherapeutInnen des Bundesministeriums für Gesundheit( BMG) im Ausmaß von insgesamt 16 Arbeitseinheiten    ( 16 AE) anerkannt. \n\n\n\n \n\n\n\nAnmeldung
URL:https://traumainstitut.eu/veranstaltung/traumabezogene-spieltherapie-tst/
LOCATION:INAMA – Institut\, Bio Art Campus\, Biodorfweg 4\, Seeham\, 5164\, Österreich
CATEGORIES:Präzenz-Workshop
ATTACH;FMTTYPE=image/jpeg:https://traumainstitut.eu/wp-content/uploads/IMG_1355-1024x768-1.jpg
END:VEVENT
END:VCALENDAR