BEGIN:VCALENDAR
VERSION:2.0
PRODID:-//Traumainstitut Salzburg - ECPv6.15.20//NONSGML v1.0//EN
CALSCALE:GREGORIAN
METHOD:PUBLISH
X-WR-CALNAME:Traumainstitut Salzburg
X-ORIGINAL-URL:https://traumainstitut.eu
X-WR-CALDESC:Veranstaltungen für Traumainstitut Salzburg
REFRESH-INTERVAL;VALUE=DURATION:PT1H
X-Robots-Tag:noindex
X-PUBLISHED-TTL:PT1H
BEGIN:VTIMEZONE
TZID:Europe/Berlin
BEGIN:DAYLIGHT
TZOFFSETFROM:+0100
TZOFFSETTO:+0200
TZNAME:CEST
DTSTART:20230326T010000
END:DAYLIGHT
BEGIN:STANDARD
TZOFFSETFROM:+0200
TZOFFSETTO:+0100
TZNAME:CET
DTSTART:20231029T010000
END:STANDARD
BEGIN:DAYLIGHT
TZOFFSETFROM:+0100
TZOFFSETTO:+0200
TZNAME:CEST
DTSTART:20240331T010000
END:DAYLIGHT
BEGIN:STANDARD
TZOFFSETFROM:+0200
TZOFFSETTO:+0100
TZNAME:CET
DTSTART:20241027T010000
END:STANDARD
BEGIN:DAYLIGHT
TZOFFSETFROM:+0100
TZOFFSETTO:+0200
TZNAME:CEST
DTSTART:20250330T010000
END:DAYLIGHT
BEGIN:STANDARD
TZOFFSETFROM:+0200
TZOFFSETTO:+0100
TZNAME:CET
DTSTART:20251026T010000
END:STANDARD
END:VTIMEZONE
BEGIN:VEVENT
DTSTART;TZID=Europe/Berlin:20241205T100000
DTEND;TZID=Europe/Berlin:20241205T180000
DTSTAMP:20260425T210325
CREATED:20230601T085045Z
LAST-MODIFIED:20241105T090526Z
UID:10000041-1733392800-1733421600@traumainstitut.eu
SUMMARY:PITT - Psychodynamisch imaginative Traumatherapie
DESCRIPTION:PITT 2 – Psychodynamisch imaginative Traumatherapie\n\n\n\n\n\n\n\n\n\nmit  Dr. Luise Reddemann\n\n\n\nDie Pitt ist ein tiefenpsychologischer Therapieansatz zur Behandlung von komplex traumatisierten Patient*innen. \n\n\n\nDiese benötigen andere Angebote als Patient*innen mit einer PTBS. In der PITT orientieren wir uns am 3-Phasenmodell nach Janet\, welches beinhaltet: Stabilisierung\, Konfrontation und Integration. \n\n\n\nWeil die Gesamtpersönlichkeit mehr oder weniger verändert sein kann\, je nachdem wie stark die traumatisierenden Erfahrungen wirken und sich auswirken\, braucht es viel Ichstärkendes oder manchmal auch wenig.  \n\n\n\n\n\n\n\n\nIn aller Regel können die Patien*innen Stress schlecht verarbeiten\, es gilt: Minimaler Stress wird als maximaler Stress erlebt. \n\n\n\nDas bedeutet\, dass das 3-Phasen Modell der Traumatherapie nach Pierre Janet hier Anwendung finden sollte. Dieses Modell besagt\, dass zunächst daran gearbeitet wird\, dass die Patient*innen sich besser selbst regulieren können\, wenn sie in traumanahe Zustände kommen. Erst wenn diesbezüglich eine gewisse Ichstärke – oder auch Stabilität – erarbeitet ist\, sollte auch eine Traumakonfrontation angeboten werden. \n\n\n\nViele der komplex traumatisierten Patient*innen lehnen Konfrontation allerdings ab. Das kann nur gemeinsam mit den Patient*innen geklärt und entschieden werden. \n\n\n\nIn den Seminaren werden Möglichkeiten zur Ich-Stärkung und auch zur Traumabearbeitung vermittelt\, sowie einige Überlegungen aus existentieller Sicht auf Traumata und deren Folgen angestellt. \n\n\n\n\n\n\n\nAufbau\n\n\n\nDie Weiterbildung besteht aus 2 Blöcken von jeweils 3 Tagen ( 48 UE) \n\n\n\nDer 1. Block findet Online über Zoom statt! \n\n\n\nDer 2. Block findet ebenfalls ONLINE statt! \n\n\n\n\n\n\n\n\nProf. Dr. med. Luise Reddemann\n\n\n\n\n Honorarprof. für Psychotraumatologie an der Universität Klagenfurt\n\n\n\n19 Jahre lang leitende Ärztin einer psychosomatischen Klinik mit Schwerpunkt Behandlung von schwer traumatisierten Menschen\n\n\n\nEntwicklerin der  »Psychodynamisch Imaginative Traumatherapie«\,  ein achtsamkeits- und mitgefühlorientierten Ansatz in der Psychotherapie\n\n\n\n\n https://www.luise-reddemann.de/luise-reddemann/ \n\n\n\n\n\n\n\n\n\n\n\n\n ZIELGRUPPE:\n\n\n\nÄrzt*Innen\, Psychotherapeut*Innen\, Psycholog*Innen\, Lebens-und Sozialberater*Innen\, sowie alle Menschen\, die beratend mit Menschen und deren Belastungen aufgrund von traumatisierenden Erfahrungen arbeiten. \n\n\n\nANERKENNUNG: \n\n\n\nDie Veranstaltung wird vom  ÖBVP als Fortbildung für Psychotherapeut*innen gemäß der Fort- und Weiterbildungsrichtlinie für Psychotherapeutinnen und Psychotherapeuten des Bundesministeriums für Gesundheit (BMG) im Ausmaß von insgesamt achtundvierzig Arbeitseinheiten (48 AE) anerkannt. \n\n\n\nDie  Veranstaltung wird  durch den Berufsverband Österreichischer Psycholog*innen I BÖP als Fort- und Weiterbildungsveranstaltung gemäß Psychologengesetz mit 48 EH anerkannt. \n\n\n\nTERMINE\n\n\n\n  05.12. – 07.12.2024 jeweils von 10:00 – 18:00 \n\n\n\n\n\n\n\nAbschluss:\n\n\n\nEin positiver Abschluss berechtigt zur Anwendung der erlernten Inhalte und Methoden im Rahmen der erfolgreich abgeschlossenen Berufsausbildung sowie der damit verbundenen Berufsberechtigung. Bitte beachten Sie den Diagnose- und Behandlungsvorbehalt der gesetzlich geregelten Gesundheitsberufe\, der festlegt\, wer befugt ist\, Krankheiten oder krankheitswertige Störungen zu untersuchen\, festzustellen und zu behandeln. \n\n\n\n \n\n\n\nKosten:\n\n\n\n€ 690 \n\n\n\n ONLINE PER ZOOM\n\n\n\n\n\n\n\nAnmeldung für PITT 2 möglich\n\n\n\nVoraussetzung Absolvenz von PITT 1
URL:https://traumainstitut.eu/veranstaltung/https-traumainstitut-eu-veranstaltung-pitt/
LOCATION:Austria
CATEGORIES:Online-Workshop
ATTACH;FMTTYPE=image/jpeg:https://traumainstitut.eu/wp-content/uploads/tree-3095703-scaled-e1687166193273.jpg
END:VEVENT
BEGIN:VEVENT
DTSTART;TZID=Europe/Berlin:20241209T100000
DTEND;TZID=Europe/Berlin:20241209T180000
DTSTAMP:20260425T210325
CREATED:20240427T185451Z
LAST-MODIFIED:20241020T090339Z
UID:10000085-1733738400-1733767200@traumainstitut.eu
SUMMARY:LIVE - Praxistage mit Luise Reddemann
DESCRIPTION:Live – Praxistage mit Luise Reddemann\n\n\n\n\n\n\n\n\n\nVertiefende Praxistage zur Psychotherapeutischen Arbeit mit traumatisierten Menschen\n\n\n\nDr. Luise Reddemann ist eine renommierte deutsche Fachärztin für Psychiatrie und ausgebildete Psychoanalytikerin. Sie gilt als Pionierin auf dem Gebiet der Psychotraumatologie im deutschsprachigen Raum und hat maßgeblich zur Einführung und Entwicklung dieser Disziplin in Deutschland beigetragen.  \n\n\n\nSie ist besonders bekannt für ihre Arbeit mit Opfern von schweren Traumata\, einschließlich solchen\, die durch Krieg\, sexuelle Gewalt und schwere Unfälle verursacht wurden. \n\n\n\nIn ihrer klinischen Praxis hat Dr. Reddemann die psychoimaginative Traumatherapie entwickelt. Diese Therapieform kombiniert psychodynamische Ansätze mit Imaginationsübungen und kreativen Techniken\, um traumatische Erfahrungen zu verarbeiten. \n\n\n\n\n\n\n\n\nPraxistage mit Dr. Luise Reddemann bieten eine einzigartige Gelegenheit\, fundiertes Wissen und praktische Fähigkeiten im Umgang mit Traumafolgestörungen zu erwerben.\n\n\n\nAnhand von mitgebrachten “Fällen” wird Frau Reddemann Möglichkeit zu Reflexionen und Fragestellungen anbieten und hilfreiche Möglichkeiten im Umgang mit dem/ der Klient*in erarbeiten. \n\n\n\nDas Seminar ist nach Möglichkeit in Präsenz geplant! Bitte beachten Sie\, dass die Referentin in ihrem hohen Alter keine Garantie für ihre Reisefähigkeit geben kann. Das Seminar wird in diesem Fall auf Online umgestellt. Es besteht kein gesondertes Rücktrittsrecht für diesen Fall. \n\n\n\n\n\n\n\n\nProf. Dr. med. Luise Reddemann\n\n\n\n\n Honorarprof. für Psychotraumatologie an der Universität Klagenfurt\n\n\n\n19 Jahre lang leitende Ärztin einer psychosomatischen Klinik mit Schwerpunkt Behandlung von schwer traumatisierten Menschen\n\n\n\nEntwicklerin der  »Psychodynamisch Imaginative Traumatherapie«\,  ein achtsamkeits- und mitgefühlorientierten Ansatz in der Psychotherapie\n\n\n\n\n https://www.luise-reddemann.de/luise-reddemann/ \n\n\n\n\n\n\n\n\n\n\n\n\n ZIELGRUPPE:\n\n\n\nÄrzt*Innen\, Psychotherapeut*Innen\, Psycholog*Innen\, Lebens-und Sozialberater*Innen\, sowie alle Menschen\, die beratend mit Menschen und deren Belastungen aufgrund von traumatisierenden Erfahrungen arbeiten. \n\n\n\n TEILNAHMEVORRAUSSETZUNG:\n\n\n\nIdeale Vorraussetzung ist die vorherige Teilnahme an PITT – Seminaren. Als Minimalvorraussetzung gelten basale Kenntnisse von PITT – z.B. durch das  Lesen der Lektüre von „Imagination als heilsame Kraft“    \n\n\n\nANERKENNUNG: \n\n\n\n Die Veranstaltung ist vom ÖBVP als Fortbildung für Psychotherapeut*innen gemäß der Fort- und Weiterbildungsrichtlinie für Psychotherapeutinnen und Psychotherapeuten des Bundesministeriums für Gesundheit (BMG) im Ausmaß von insgesamt sechzehn Arbeitseinheiten (16 AE) anerkannt.  \n\n\n\n Die Veranstaltung wird durch den Berufsverband Österreichischer Psycholog*innen I BÖP als Fort- und Weiterbildungsveranstaltung gemäß Psychologengesetz mit 16 EH anerkannt. \n\n\n\nBERECHTIGUNG:\n\n\n\nDie TEilnahme am Workshop berechtigt zur Anwendung der erlernten Inhalte und Methoden im Rahmen der erfolgreich abgeschlossenen Berufsausbildung sowie der damit verbundenen Berufsberechtigung.  \n\n\n\nBitte beachten Sie den Diagnose- und Behandlungsvorbehalt der gesetzlich geregelten Gesundheitsberufe\, der festlegt\, wer befugt ist\, Krankheiten oder krankheitswertige Störungen zu untersuchen\, festzustellen und zu behandeln. \n\n\n\nTERMINE\n\n\n\nMo. 9.12. 2024 von 10.00 – 18.00 Di. 10.12. 2024 von 10.00 – 17.00 \n\n\n\n\n\n\n\nKOSTEN: \n\n\n\n€ 450 p. P. inkl. 20 % MwSt.  \n\n\n\nONLINE per ZOOM\n\n\n\n\n\nANMELDUNG:
URL:https://traumainstitut.eu/veranstaltung/live-praxistage/
LOCATION:Austria
CATEGORIES:Online-Workshop
ATTACH;FMTTYPE=image/jpeg:https://traumainstitut.eu/wp-content/uploads/20150924_144618-scaled-e1694934701994.jpg
END:VEVENT
END:VCALENDAR