BEGIN:VCALENDAR
VERSION:2.0
PRODID:-//Traumainstitut Salzburg - ECPv6.15.20//NONSGML v1.0//EN
CALSCALE:GREGORIAN
METHOD:PUBLISH
X-ORIGINAL-URL:https://traumainstitut.eu
X-WR-CALDESC:Veranstaltungen für Traumainstitut Salzburg
REFRESH-INTERVAL;VALUE=DURATION:PT1H
X-Robots-Tag:noindex
X-PUBLISHED-TTL:PT1H
BEGIN:VTIMEZONE
TZID:Europe/Berlin
BEGIN:DAYLIGHT
TZOFFSETFROM:+0100
TZOFFSETTO:+0200
TZNAME:CEST
DTSTART:20230326T010000
END:DAYLIGHT
BEGIN:STANDARD
TZOFFSETFROM:+0200
TZOFFSETTO:+0100
TZNAME:CET
DTSTART:20231029T010000
END:STANDARD
BEGIN:DAYLIGHT
TZOFFSETFROM:+0100
TZOFFSETTO:+0200
TZNAME:CEST
DTSTART:20240331T010000
END:DAYLIGHT
BEGIN:STANDARD
TZOFFSETFROM:+0200
TZOFFSETTO:+0100
TZNAME:CET
DTSTART:20241027T010000
END:STANDARD
BEGIN:DAYLIGHT
TZOFFSETFROM:+0100
TZOFFSETTO:+0200
TZNAME:CEST
DTSTART:20250330T010000
END:DAYLIGHT
BEGIN:STANDARD
TZOFFSETFROM:+0200
TZOFFSETTO:+0100
TZNAME:CET
DTSTART:20251026T010000
END:STANDARD
END:VTIMEZONE
BEGIN:VEVENT
DTSTART;TZID=Europe/Berlin:20240314T170000
DTEND;TZID=Europe/Berlin:20240314T201500
DTSTAMP:20260423T030453
CREATED:20230821T181810Z
LAST-MODIFIED:20250526T083710Z
UID:10000053-1710435600-1710447300@traumainstitut.eu
SUMMARY:Traumafokussierte Verhaltenstherapie (TF-KVT) mit Kindern & Jugendlichen
DESCRIPTION:Traumafokussierte Verhaltenstherapie (TF-KVT) mit Kindern & Jugendlichen\n\n\n\n\n\n\n\n\n\nWEBINAR mit Zertifizierungsmöglichkeit\n\n\n\nTraumafokussierte Therapie (TF-KVT) mit Kindern & Jugendlichen\n\n\n\n Die traumafokussierte kognitive Verhaltenstherapie (TF-KVT) ist ein evidenzbasiertes Verfahren für die Behandlung einfacher und komplexer posttraumatischer Belastungsstörungen im Kindes- und Jugendalter. Sie wurde von Judith A. Cohen\, Esther Deblinger und Anthony P. Mannarino in den USA entwickelt. Die TF-KVT integriert verschiedene Elemente der klassischen KVT und adaptiert diese für die Therapie von Traumafolgestörungen bei 3- bis 18-jährigen Kindern und Jugendlichen: Psychoedukation\, Entspannungsverfahren\, Emotionsregulation\, Veränderung dysfunktionaler Kognitionen\, Erstellen eines Traumanarrativs\, Einbezug der Eltern\, Exposition von Traumatriggern\, Aufbau von Sicherheitsstrategien. \n\n\n\n\n\n\n\n\n METHODE:\n\n\n\nIn einem selbstgesteuerten Onlinetraining erwerben die Teilnehmer Grundlagenwissen über traumafokussierte kognitive Verhaltenstherapie und deren Anwendung. Durch multimediale Lerninhalte bereiten sie sich konkret auf die Inhalte vor\, die dann in den vier dreistündigen Webinaren vertieft werden. Der Aufbau bietet genügend Gelegenheit für Austausch über eigene Patienten und erste Erfahrungen in der Anwendung der TF-KVT. Durch den bevorzugten Zugang zur Onlineplattform trauma.help haben die Teilenhmer die Möglichkeit sich über die Webinarreihe hinaus untereinander zu vernetzen\, Supervisions- und Selbstfürsorgeangebote wahrzunehmen\, auf aktuelle Materialien und Inhalte zuzugreifen und andere Therapeuten kennen zu lernen. \n\n\n\n\n\nTHEMENSCHWERPUNKTE \n\n\n\n\nDie Webinar-Reihe umfasst vier Online-Live-Sessions mit dem Trainer\, in denen zentrale Komponenten der TF-KVT in theoretischer und praktischer Hinsicht veranschaulicht und vertieft werden (insgesamt 16 Lerneinheiten).\n\n\n\nDarüber hinaus stehen umfassende multimediale Lernmaterialien (Videobeispiele\, Anleitungen\, Arbeitsblätter) für das begleitende Selbststudium zur Verfügung (insgesamt 12 Lerneinheiten).\n\n\n\nDie Anmeldung für den Online-Lehrgang beinhaltet den erleichterten Zugang zur digitalen Therapeutenplattform »trauma.help«. In diesem datenschutzsicheren Netzwerk können sich TraumatherapeutInnen untereinander und mit ExpertInnen austauschen und vernetzen. Sie erhalten Zugriff auf weiterführende Materialien (Interviews\, Podcasts\, Arbeitshilfen) sowie auf Selbstfürsorge- und Supervisionsangebote.\n\n\n\n\n\n\n ZIELE: \n\n\n\n\nModule der TF-KVT kennen und sicher anwenden können\n\n\n\nFlexible Anpassungsmöglichkeiten an unterschiedliche Zielgruppen (z.B. jüngere Kinder\, Geflüchtete\, fortgesetzte Traumatisierung)\n\n\n\nSicherheit in der Diagnostik und Therapieplanung mit Kindern und Jugendlichen\, die an einer PTBS leiden\n\n\n\nBegleitete Umsetzung in die eigene praktische Arbeit mit traumatisierten Kindern und Jugendlichen\n\n\n\n\n\n\n\n Dr. Nicole Szesny-Mahlau\n\n\n\n\nDiplompsychologin\, Psychologische Psychotherapeutin in eigener Praxis\n\n\n\nVorsitzende trauma.help – deutsches Traumakompetenznetz e.V.\n\n\n\nZertifizierte Trainerin und Supervisorin für traumafokussierte kognitive Verhaltenstherapie (TF-KVT)\n\n\n\nZertifizierte Traumatherapeutin DeGPT\n\n\n\n\nLangjährige klinische und wissenschaftliche Mitarbeiterin am Max-Planck-Institut für Psychiatrie \n\n\n\nwww.pp-bogenhausen.de www.trauma.help \n\n\n\n\nZielgruppe:\n\n\n\nÄrztInnen\, PsychotherapeutInnen\, Kinder- und JugendlichenpsychotherapeutInnen sowie klinische und GesundheitspsychologInnen  \n\n\n\nVorraussetzung:\n\n\n\nVorraussetzung zur Teilnahme ist ein Basiswissen in Psychotraumatologie\, sowie praktische Erfahrung in der Arbeit mit traumatisierten Menschen. \n\n\n\n\nAnforderung:\n\n\n\n\nDie Online Teilnahme  erfordert  eine Computerausstattung mit Video- und Mikrofonfunktion und eine stabile Internetverbindung. Details zur Handhabung des Internettools werden den TeilnehmerInnen vor der jeweiligen Veranstaltung mitgeteilt. \n\n\n\nAnerkennung: \n\n\n\nNach Durcharbeiten des Online-Kurses im Selbststudium bekommen die TeilnehmerInnen: \n\n\n\n\nein »Zertifikat über den erfolgreichen Abschluss des Online Trainings für Therapeuten in der traumafokussierten kognitiven Verhaltenstherapie«\n\n\n\neine offizielle Teilnahmebescheinigung der Psychotherapeutenkammer Bayern über selbigen Online-Kurs mit 12 anerkannten Fortbildungspunkten\n\n\n\n  Das Seminar wird vom ÖBVP als Fortbildung für Psychotherapeut*Innen gemäß der Fort-und Weiterbildungsrichtlinie für Psychotherapeut*Innen des bundesministeriums für Gesundheit( BMG) im Ausmaß von insgesamt 16 Arbeitseunheiten ( 16 AE) anerkannt.\n\n\n\nDie  Veranstaltung wird  durch den Berufsverband Österreichischer PsychologInnen I BÖP als Fort- und Weiterbildungsveranstaltung gemäß Psychologengesetz mit 16 EH anerkannt.\n\n\n\n\nDauer 4 Termine jeweils Donnerstag 17.00 -20.15 \n\n\n\nAnmeldeschluss \n\n\n\n01.02.2024 \n\n\n\nTermine \n\n\n\n\n\n\nDo. 14.03.2024 \n\n\n\nDo. 11.04.2024\n\n\n\nDo. 16.05.2024\n\n\n\nDo. 06.06.2024\n\n\n\n\n\n\n\n\n\n\n\n\nOrt Video-Online-Gruppentreffen auf der Plattform Zoom \n\n\n\nKosten € 380\,– pro Person inkl. 20 % MwSt + 50 Euro zur Nutzung der Online – Plattform: TraumaHelp \n\n\n\n   \n\n\n\n\n\n\n\nAnmeldung
URL:https://traumainstitut.eu/veranstaltung/traumafokussierte-therapie-tf-kvt-mit-kindern-jugendlichen/
LOCATION:INAMA – Institut\, Bio Art Campus\, Biodorfweg 4\, Seeham\, 5164\, Österreich
CATEGORIES:Online-Workshop
ATTACH;FMTTYPE=image/jpeg:https://traumainstitut.eu/wp-content/uploads/IMG_0024-scaled.jpg
END:VEVENT
END:VCALENDAR