BEGIN:VCALENDAR
VERSION:2.0
PRODID:-//Traumainstitut Salzburg - ECPv6.15.20//NONSGML v1.0//EN
CALSCALE:GREGORIAN
METHOD:PUBLISH
X-WR-CALNAME:Traumainstitut Salzburg
X-ORIGINAL-URL:https://traumainstitut.eu
X-WR-CALDESC:Veranstaltungen für Traumainstitut Salzburg
REFRESH-INTERVAL;VALUE=DURATION:PT1H
X-Robots-Tag:noindex
X-PUBLISHED-TTL:PT1H
BEGIN:VTIMEZONE
TZID:Europe/Berlin
BEGIN:DAYLIGHT
TZOFFSETFROM:+0100
TZOFFSETTO:+0200
TZNAME:CEST
DTSTART:20230326T010000
END:DAYLIGHT
BEGIN:STANDARD
TZOFFSETFROM:+0200
TZOFFSETTO:+0100
TZNAME:CET
DTSTART:20231029T010000
END:STANDARD
BEGIN:DAYLIGHT
TZOFFSETFROM:+0100
TZOFFSETTO:+0200
TZNAME:CEST
DTSTART:20240331T010000
END:DAYLIGHT
BEGIN:STANDARD
TZOFFSETFROM:+0200
TZOFFSETTO:+0100
TZNAME:CET
DTSTART:20241027T010000
END:STANDARD
BEGIN:DAYLIGHT
TZOFFSETFROM:+0100
TZOFFSETTO:+0200
TZNAME:CEST
DTSTART:20250330T010000
END:DAYLIGHT
BEGIN:STANDARD
TZOFFSETFROM:+0200
TZOFFSETTO:+0100
TZNAME:CET
DTSTART:20251026T010000
END:STANDARD
END:VTIMEZONE
BEGIN:VEVENT
DTSTART;TZID=Europe/Berlin:20240612T090000
DTEND;TZID=Europe/Berlin:20240612T170000
DTSTAMP:20260425T141438
CREATED:20230711T155207Z
LAST-MODIFIED:20240418T145452Z
UID:10000050-1718182800-1718211600@traumainstitut.eu
SUMMARY:Neuro-Deeskalation
DESCRIPTION:NeuroDeeskalation\n\n\n\n\n\n\n\n\n\nEinführung \n\n\n\n In diesem Seminar lernen Sie Menschen\, die sich bedrohlich verhalten\, ins Bindungssystem zu führen. \n\n\n\n“Führen Sie Menschen auf die geborgene Seite“Menschen mit Bindungstraumatisierungen switchen in Nähebegegnungen oftmals in traumatisierte Muster mit neurobiologischer Aktivierung ihres Gefahrenssystems. Wann immer das passiert\, begegnen sie Menschen im Kampf-\, Flucht- oder Erstarrungsmodus. In diesen Situationen werden Betreuer oft selbst in ihren eigenen Gefahrensystemen getriggert und reagieren mit ihren eigenen Traumamustern. Symmetrischen Eskalationen sind dann schwer zu vermeiden. \n\n\n\n\n\n\n\n\nInhalt:  \n\n\n\n\nNeurobiologie\, \n\n\n\nTrauma und Eskalation\n\n\n\nSystemisches Rollenspiel\n\n\n\n Theoretische Verortung systemisches Rollenspiel\, \n\n\n\nEgo-States\n\n\n\nFireFighter und Eskalation\, \n\n\n\nBindungseindeutige Körpersprache\n\n\n\n\nAufbau/ Methodik :\n\n\n\nNeuroDeeskalation ist eine Methode\, welche die Erkenntnisse der Neurobiologie\, Bindungstheorie\, Traumatheorie und des Körperpsychotherapie auf den Spezialfall Eskalation anwendet. Die Methode ergänzt bindungsorientierte und traumabasierte Ansätze sowie die Methoden der Neuen Autorität bzw. der Psychologie des gewaltfreien Widerstands (NVR psychology). \n\n\n\n\n\n\n\n\nDr. Christoph Göttl\n\n\n\n\n\n\nDr. Christoph Göttl ist Kinder- und Jugendpsychiater und Psychotherapeut mit einer Spezialisierung auf Traumatherapie. Als Trainer\, Coach\, Supervisor und Vortragender inspiriert er das Feld der traumasensiblen\, bindungsorientierten Kinder- und Jugendlichentherapie und Pädagogik. Christoph entwarf das Konzept NeuroDeeskalation und vermittelt es in Österreich\, Deutschland\, der Schweiz\, England und Belgien. Immer um Integration und Weiterentwicklung bemüht\, begründete er die internationale Bewegung NeuroDeeskalation u.A. in Zusammenarbeit mit NVR\, der Psychologie des gewaltfreien Widerstands.   \n\n\n\nwww.ressourcenreich.at \n\n\n\n\n\n\n\n\n\n\n\n\n\n\n\nZIELGRUPPE:\n\n\n\nMenschen\, welche mit bindungstraumatisierten Menschen arbeiten aus den Kontexten Kinder- und Jugendhilfe\, Kinder- und Jugendpsychiatrie\, Forensik\, Erwachsenen- und Alterspsychiatrie; Pädagog*innen aus Schule und Sozialpädagogik\, Pflege- und Adoptiveltern. \n\n\n\nANERKENNUNG: \n\n\n\nDie Veranstaltung wird vom ÖBVP als Fortbildung für PsychotherapeutInnen gemäß der Fort- und Weiterbildungsrichtlinie für Psychotherapeutinnen und Psychotherapeuten des Bundesministeriums für Gesundheit (BMG) im Ausmaß von insgesamt sechszehn Arbeitseinheiten (16 AE) anerkannt wird. \n\n\n\nDie  Veranstaltung wird  durch den Berufsverband Österreichischer PsychologInnen I BÖP als Fort- und Weiterbildungsveranstaltung gemäß Psychologengesetz mit 16 EH anerkannt. \n\n\n\nTERMINE\n\n\n\n Mi.    12.06. 2024:   10:00 – 17:30 Do.   13.06. 2024:     9:00 – 16:30 \n\n\n\n\n\n\n\nANMELDESCHLUSS01.05. 2024 \n\n\n\nKOSTEN: \n\n\n\n390 € inkl. 20 % MwSt. \n\n\n\nORT: INAMA Institut\n\n\n\n\n\nSeminar ist ausgebucht –  Anmeldung für die Warteliste möglich:
URL:https://traumainstitut.eu/veranstaltung/neuro-deeskalation/
LOCATION:INAMA – Institut\, Bio Art Campus\, Biodorfweg 4\, Seeham\, 5164\, Österreich
CATEGORIES:Präzenz-Workshop
ATTACH;FMTTYPE=image/jpeg:https://traumainstitut.eu/wp-content/uploads/FB_IMG_1548012328249-2-e1689151850405.jpg
END:VEVENT
END:VCALENDAR