BEGIN:VCALENDAR
VERSION:2.0
PRODID:-//Traumainstitut Salzburg - ECPv6.15.20//NONSGML v1.0//EN
CALSCALE:GREGORIAN
METHOD:PUBLISH
X-ORIGINAL-URL:https://traumainstitut.eu
X-WR-CALDESC:Veranstaltungen für Traumainstitut Salzburg
REFRESH-INTERVAL;VALUE=DURATION:PT1H
X-Robots-Tag:noindex
X-PUBLISHED-TTL:PT1H
BEGIN:VTIMEZONE
TZID:Europe/Berlin
BEGIN:DAYLIGHT
TZOFFSETFROM:+0100
TZOFFSETTO:+0200
TZNAME:CEST
DTSTART:20230326T010000
END:DAYLIGHT
BEGIN:STANDARD
TZOFFSETFROM:+0200
TZOFFSETTO:+0100
TZNAME:CET
DTSTART:20231029T010000
END:STANDARD
BEGIN:DAYLIGHT
TZOFFSETFROM:+0100
TZOFFSETTO:+0200
TZNAME:CEST
DTSTART:20240331T010000
END:DAYLIGHT
BEGIN:STANDARD
TZOFFSETFROM:+0200
TZOFFSETTO:+0100
TZNAME:CET
DTSTART:20241027T010000
END:STANDARD
BEGIN:DAYLIGHT
TZOFFSETFROM:+0100
TZOFFSETTO:+0200
TZNAME:CEST
DTSTART:20250330T010000
END:DAYLIGHT
BEGIN:STANDARD
TZOFFSETFROM:+0200
TZOFFSETTO:+0100
TZNAME:CET
DTSTART:20251026T010000
END:STANDARD
END:VTIMEZONE
BEGIN:VEVENT
DTSTART;TZID=Europe/Berlin:20241121T090000
DTEND;TZID=Europe/Berlin:20241121T170000
DTSTAMP:20260425T204414
CREATED:20231008T175204Z
LAST-MODIFIED:20241020T093942Z
UID:10000064-1732179600-1732208400@traumainstitut.eu
SUMMARY:Resource Therapy – Grundlagen
DESCRIPTION:Resource Therapy – Grundlagen\n\n\n\n\n\n\n\nResource Therapy ist eine traumaverarbeitende psychotherapeutische Methode\, die von Dr. Gordon Emmerson entwickelt wurde.  \n\n\n\nZugrunde liegt die Annahme\, dass unsere Persönlichkeit ein Mosaik von States oder Persönlichkeitsanteilen darstellt\, die als sinnvolle Ressourcen auf Lebenserfahrungen entstanden sind.  \n\n\n\nSo gesehen sind alle Persönlichkeitsanteile “Ressourcen States”\, denen in klar strukturierter und außerordentlich wertschätzender Weise tiefgreifende Veränderung für unerwünschte Emotionen und Verhaltensweisen ermöglicht werden kann. \n\n\n\nDas Grundlagentraining (Foundation Training) ist der erste\, in sich geschlossene\, Fortbildungsabschnitt in Clinical Resource Therapy und umfasst 16 UE. \n\n\n\nEinführung in die Theorie und Methode der Resource Therapy\, Diagnose Flowchart und spezifische Interventionen. \n\n\n\n\n\n\n\n\n\n\n\n\n\n\n\n\n\nMag. Petra Laimer-Schroll\n\n\n\n\nPsychotherapeutin\, in freier Praxis\n\n\n\nSystemische Familientherapie\, \n\n\n\nSäuglings-\, Kinder- und Jugendpsychotherapie\n\n\n\nTraumatherapie (Brainspotting\, EMDR)\n\n\n\nHypnotherapie (nach Milton H. Erickson)\n\n\n\nTrainerin für Resource Therapy nach Gordon Emmerson\n\n\n\nhttps://www.federleicht-loewenstark.com/ \n\n\n\n\n\n\n\n\n\n\n\nInhalt\n\n\n\n\nÜberblick über Resource-Therapy und ihre Persönlichkeitstheorie\n\n\n\nEntstehung und mögliche Pathologien von Ressourcen States\n\n\n\nRT Diagnose Erstellung und Interventionsmöglichkeiten\n\n\n\nAktion Spezifisch beleben und Brücke im Detail\n\n\n\nAuflösen von belastenden Erfahrungen bei Ressourcen States\n\n\n\nVerhandeln mit States im Widerstreit\n\n\n\n\n\n\nZiele\n\n\n\n\nEinführung in die Grundlagen der Resource Therapy\, inklusive Theorie\, Methodik und Geschichte\n\n\n\nAnwendung der Diagnosekriterien auf einzelne Ressourcen States\n\n\n\nKenntnis und Erprobung einzelner Interventionsmöglichkeiten\n\n\n\nAuflösen von belastenden Erfahrungen bei Ressourcen States\n\n\n\nVerhandeln mit States im Widerstreit\n\n\n\n\n\n\n\n\n\n\nMethodeVortrag\, Diskussion\, Video-Analysen\, Anwendung und Erprobung der Interventionen in Kleingruppen. \n\n\n\nZielgruppenPsychotherapeut*innen\, Klinische Psycholog*innen und Ärzt*innen.​ \n\n\n\nAnerkennung: \n\n\n\nDie Veranstaltung wird vom ÖBVP als Fortbildung für Psychotherapeut*innen gemäß der Fort- und Weiterbildungsrichtlinie für Psychotherapeutinnen und Psychotherapeuten des Bundesministeriums für Gesundheit (BMG) im Ausmaß von insgesamt sechzehn Arbeitseinheiten (16 AE) anerkannt wird. \n\n\n\nDie  Veranstaltung wird  durch den Berufsverband Österreichischer PsychologInnen I BÖP als Fort- und Weiterbildungsveranstaltung gemäß Psychologengesetz mit 16 EH anerkannt. \n\n\n\nDas Grundlagenseminar gilt als Vorraussetzung für die Teilnahme am Qualifizierungs – Lehrgang: Clinical Resource Therapy:https://traumainstitut.eu/veranstaltung/lehrgang-resource-therapy-2025/ \n\n\n\n \n\n\n\nTermin21. November 2024 09:00 – 17:00 Uhr22. November 2024 09:00 – 17:00 Uhr \n\n\n\nPreis360.- Euro \n\n\n\nVeranstaltungsort: Psychotherapeutische Praxis – federleicht & LÖWENSTARK \n\n\n\nPassauer Strasse 30Mattsee\, 5163 \n\n\n\n\n\n\n\n\n\nAnmeldung\n\n\n\n                    Resource Therapy Oktober 2024TitelAnredeVornameNachnameBeruf Berater*innen  Gesundheitsberufe KJH Fachkräfte Lebens- und Sozialberater*innen Pädagog*innen Pflege- und Adoptiveltern Psycholog*innen Psychotherapeut*innen Sozialarbeiter*innen Sozialpädagog*innen Heilpraktiker für Psychotherapie  SonstigeStraße / NummerPostleitzahlStadt / OrtLandLand auswählenAfghanistanAlbanienAlgerienAmerikanisch-SamoaAmerikanische JungferninselnAndorraAngolaAnguillaAntarktikaAntigua und BarbudaArgentinienArmenienArubaAserbaidschanAustralienBahamasBahrainBangladeschBarbadosBelarusBelgienBelizeBeninBermudaBhutanBolivienBonaire\, Sint Eustatius und SabaBosnien und HerzegowinaBotswanaBouvetinselBrasilienBritische JungferninselnBritisches Territorium im Indischen OzeanBruneiBulgarienBurkina FasoBurundiCabo VerdeChileChinaCookinselnCosta RicaCuraçaoDemocratic Republic of the Congo (Kinshasa)DeutschlandDominicaDominikanische RepublikDschibutiDänemarkEcuadorEl SalvadorElfenbeinküsteEritreaEstlandEswatiniFalklandinselnFidschiFinnlandFrankreichFranzösisch-GuayanaFranzösisch-PolynesienFranzösische Süd- und AntarktisgebieteFäröerGabunGambiaGeorgienGhanaGibraltarGrenadaGriechenlandGrönlandGuadeloupeGuamGuatemalaGuernseyGuineaGuinea-BissauGuyanaHaitiHeard und McDonaldinselnHondurasHongkongIndienIndonesienIrakIranIrlandIslandIsle of ManIsraelItalienJamaikaJapanJemenJerseyJordanienKaimaninselnKambodschaKamerunKanadaKasachstanKatarKeniaKirgisistanKiribatiKokosinseln (Keelinginseln)KolumbienKomorenKosovoKroatienKubaKuwaitLaosLesothoLettlandLibanonLiberiaLibyenLiechtensteinLitauenLuxemburgMacao\, ChinaMadagaskarMalawiMalaysiaMaledivenMaliMaltaMarokkoMarshallinselnMartiniqueMauretanienMauritiusMayotteMexikoMikronesienMoldauMonacoMongoleiMontenegroMontserratMosambikMyanmarNamibiaNauruNepalNeukaledonienNeuseelandNicaraguaNiederlandeNigerNigeriaNiueNordkoreaNorfolkinselNorth MacedoniaNorwegenNördliche MarianenOmanOsttimorPakistanPalauPalästinensische AutonomiegebietePanamaPapua-NeuguineaParaguayPeruPhilippinenPitcairninselnPolenPortugalPuerto RicoRepublic of the Congo (Brazzaville)RuandaRumänienRusslandRéunionSaint BarthélemySaint Martin (niederländischer Teil)Saint-Pierre und MiquelonSalomonenSambiaSamoaSan MarinoSao Tome and PrincipeSaudi-ArabienSchwedenSchweizSenegalSerbienSeychellenSierra LeoneSimbabweSingapurSlowakeiSlowenienSomaliaSpanienSpitzbergen und Jan MayenSri LankaSt. HelenaSt. Kitts und NevisSt. LuciaSt. Martin (Frankreich)St. Vincent und die GrenadinenSudanSurinamSyrienSüdafrikaSüdgeorgien/SandwichinselnSüdkoreaSüdsudanTadschikistanTaiwanTansaniaThailandTogoTokelauTongaTrinidad und TobagoTschadTschechienTunesienTurkmenistanTurks- und CaicosinselnTuvaluTürkiyeUgandaUkraineUngarnUnited States (US) Minor Outlying IslandsUruguayUsbekistanVanuatuVatikanstadtVenezuelaVereinigte Arabische EmirateVereinigte Staaten von Amerika (USA)Vereinigtes KönigreichVietnamWallis und FutunaWeihnachtsinselWestsaharaZentralafrikanische RepublikZypernÄgyptenÄquatorialguineaÄthiopienÅlandinselnÖsterreichE-MailTelefon/MobileTeilnahme Online via Zoom PräsenzRechnungsadressse Abweichende Rechnungsadresse (nur auszufüllen\, wenn die Rechnungsadresse von der Lieferadresse abweicht)	Institution/ NameStraßePLZOrtLand– Select –ÖsterreichDeutschlandSchweizItalienSonstigeIch habe bereits eine Veranstaltung des Traumainstituts Salzburg besucht Ja NeinAnmerkungen Ich stimme den Teilnahmebedingungen und Stornobedingungen zu  Ich bin damit einverstanden\, dass diese Website meine eingereichten Informationen speichert\, damit sie auf meine Anfrage antworten könnenNewsletter Ich möchte weitere Informationen über Veranstaltungen erhalten Jetzt anmelden
URL:https://traumainstitut.eu/veranstaltung/resource-therapy-grundlagen-2/
LOCATION:Psychotherapeutische Praxis – federleicht & LÖWENSTARK\, Passauer Strasse 30\, Mattsee\, 5163
CATEGORIES:Hybrid-Workshop
ATTACH;FMTTYPE=image/jpeg:https://traumainstitut.eu/wp-content/uploads/pexels-oleksandr-pidvalnyi-12944753-2.jpg
END:VEVENT
END:VCALENDAR