BEGIN:VCALENDAR
VERSION:2.0
PRODID:-//Traumainstitut Salzburg - ECPv6.15.20//NONSGML v1.0//EN
CALSCALE:GREGORIAN
METHOD:PUBLISH
X-WR-CALNAME:Traumainstitut Salzburg
X-ORIGINAL-URL:https://traumainstitut.eu
X-WR-CALDESC:Veranstaltungen für Traumainstitut Salzburg
REFRESH-INTERVAL;VALUE=DURATION:PT1H
X-Robots-Tag:noindex
X-PUBLISHED-TTL:PT1H
BEGIN:VTIMEZONE
TZID:Europe/Berlin
BEGIN:DAYLIGHT
TZOFFSETFROM:+0100
TZOFFSETTO:+0200
TZNAME:CEST
DTSTART:20250330T010000
END:DAYLIGHT
BEGIN:STANDARD
TZOFFSETFROM:+0200
TZOFFSETTO:+0100
TZNAME:CET
DTSTART:20251026T010000
END:STANDARD
BEGIN:DAYLIGHT
TZOFFSETFROM:+0100
TZOFFSETTO:+0200
TZNAME:CEST
DTSTART:20260329T010000
END:DAYLIGHT
BEGIN:STANDARD
TZOFFSETFROM:+0200
TZOFFSETTO:+0100
TZNAME:CET
DTSTART:20261025T010000
END:STANDARD
BEGIN:DAYLIGHT
TZOFFSETFROM:+0100
TZOFFSETTO:+0200
TZNAME:CEST
DTSTART:20270328T010000
END:DAYLIGHT
BEGIN:STANDARD
TZOFFSETFROM:+0200
TZOFFSETTO:+0100
TZNAME:CET
DTSTART:20271031T010000
END:STANDARD
END:VTIMEZONE
BEGIN:VEVENT
DTSTART;TZID=Europe/Berlin:20260703T100000
DTEND;TZID=Europe/Berlin:20260703T180000
DTSTAMP:20260420T214529
CREATED:20260313T111133Z
LAST-MODIFIED:20260315T132725Z
UID:10000145-1783072800-1783101600@traumainstitut.eu
SUMMARY:EMDR-Basiscurriculum  Kinder und Jugendliche
DESCRIPTION:Lehrgang: EMDR-mit Kindern und Jugendlichen\n\n\n\n\n\n\n\n\n\nKOOPERATIONSVERANSTALTUNG mit KTI– Kindertraumainstitut  \n\n\n\nBasiscurriculum \n\n\n\nAltersgerechte Traumatherapie mitwissenschaftlicher Evidenz \n\n\n\nBelastende Erfahrungen können bei Kindern und Jugendlichen zu unterschiedlichsten Störungen sowie zu einer Posttraumatischen Belastungsstörung führen. Bei kleinen Kindern können dies mitunter auch schon kleine und für Erwachsene als unbedeutend wahrgenommene Ereignisse sein. Die traumafokussierte Behandlung mit EMDR bei Kindern und Jugendlichen bietet eine altersgerechte Intervention\, die den Kindern hilft\, ihre Erlebnisse schonend zu verarbeiten. \n\n\n\nDie WHO (2013a) beschreibt die Vorteile von EMDR wie folgt: \n\n\n\n\nbestehende Überzeugungen des Klienten werden nicht direkt herausgefordert\n\n\n\nEMDR verlangt keine belastende langanhaltende Exposition\n\n\n\nkeine Hausaufgaben.kann \n\n\n\nEMDR spielerisch durchgeführt werden und auf der Ebene kindlicher Symbolisierungsformen (Zeichnungen\, Sandbilder\, (szenische) Geschichten) stattfinden.\n\n\n\n\n\n\n\n\n\nAufbau\n\n\n\nDie Weiterbildung besteht aus 2 Blöcken von jeweils 3 Tagen a 28 UE \n\n\n\n\n\n\n\nTrainerin\n\n\n\n\nRose-Marie Wellek-Mestian\, Msc BA \n\n\n\n\nSystemische Psychotherapeutin\, spezielle Traumatherapie (DeGPT)\,\n\n\n\nSpezielle Psychotraumatherapie mit Kindern und Jugendlichen (DeGPT)\n\n\n\nTherapeutin in Säuglings-\, Kinder- und Jugendlichenpsychotherapie\,\n\n\n\nEMDR Supervisorin für Erwachsene\, Kinder und Jugendliche\n\n\n\nEMDR Europe Accredited C&A Trainer\n\n\n\nHome | Traumaarbeit (wellek.at)\n\n\n\n\n\n\n\n\n\n\n\n\n\n ZIELGRUPPE:\n\n\n\nPsychotherapeut*Innen \, Psycholog*Innen \n\n\n\nNach Rücksprache mit dem Seminarleiter ist auch eine Teilnahme im fortgeschrittenen Teil der Ausbildung/Weiterbildung zum PsychotherapeutIn ( Psychotherapeut*In i.A. unter Supervision) möglich. \n\n\n\n\n\n\n\nTEILNAHMEVORAUSETZUNG:\n\n\n\nTeilnahmevoraussetzung ist der vollständige Besuch des 1. Moduls des EMDR Lehrgangs: https://traumainstitut.eu/veranstaltung/emdr-zertifizierter-weiterbildungslehrgang/ \n\n\n\n\n\n\n\nANERKENNUNG: \n\n\n\n Um eine Anerkennung durch ÖBVP und BÖP wird angesucht \n\n\n\nTERMINE\n\n\n\nModul 1: 3.07. – 5.07.2026Modul 2: 7.11 – 11.11.2026  \n\n\n\nWEITERE INFOS und ANMELUNGEN: \n\n\n\nKINDER TRAUMA INSTITUT : https://www.kindertraumainstitut.de/ \n\n\n\n\n\n\n\nORT: Hallein bei Salzburg
URL:https://traumainstitut.eu/veranstaltung/emdr-basiscurriculum-kinder-und-jugendliche/
LOCATION:Psychotherapeutische Praxis – Rose Marie Wellek Mestian\, Ederstrasse 6\, Hallein\, 5400\, Austria
CATEGORIES:Präzenz-Lehrgang
ATTACH;FMTTYPE=image/jpeg:https://traumainstitut.eu/wp-content/uploads/EMDR-Kinder-e1687166168575.jpg
END:VEVENT
END:VCALENDAR